BEGIN:VCALENDAR
VERSION:2.0
PRODID:-//ChamberMaster//Event Calendar 2.0//EN
METHOD:PUBLISH
X-PUBLISHED-TTL:P1H
REFRESH-INTERVAL:P1H
CALSCALE:GREGORIAN
BEGIN:VTIMEZONE
TZID:America/New_York
BEGIN:DAYLIGHT
RRULE:FREQ=YEARLY;BYMONTH=3;BYDAY=2SU
DTSTART:20070101T000000
TZOFFSETFROM:-0500
TZOFFSETTO:-0400
TZNAME:Eastern Daylight Time
END:DAYLIGHT
BEGIN:STANDARD
RRULE:FREQ=YEARLY;BYMONTH=11;BYDAY=1SU
DTSTART:20070101T000000
TZOFFSETFROM:-0400
TZOFFSETTO:-0500
TZNAME:Eastern Standard Time
END:STANDARD
END:VTIMEZONE
BEGIN:VEVENT
DTSTART;TZID=America/New_York:20251010T140000
DTEND;TZID=America/New_York:20251010T153000
X-MICROSOFT-CDO-ALLDAYEVENT:FALSE
SUMMARY:Electronic Records Day: Innovative Work in Digital Exhibits
DESCRIPTION:SERI presents its annual electronic records day webinar. During the 1 hour 30 minute webinar\, the Electronic Records Day poster will be shared followed by presentations that highlight the innovative work in digital exhibits at state and territorial archives\, capped off with time at the end for question and answer. More information on speakers to follow.
X-ALT-DESC;FMTTYPE=text/html:SERI presents its annual electronic records day webinar. During the 1 hour 30 minute webinar\, the Electronic Records Day poster will be shared followed by presentations that highlight the innovative work in digital exhibits at state and territorial archives\, capped off with time at the end for question and answer. More information on speakers to follow.
LOCATION:
UID:e.4188.1266776
SEQUENCE:3
DTSTAMP:20260419T124320Z
URL:https://business.statearchivists.org/upcoming-events/Details/electronic-records-day-innovative-work-in-digital-exhibits-1483192?sourceTypeId=Hub
END:VEVENT
END:VCALENDAR
